Package: humanStemCell Version: 0.50.0 Command: /home/biocbuild/bbs-3.22-bioc/R/bin/R CMD check --install=check:humanStemCell.install-out.txt --library=/home/biocbuild/bbs-3.22-bioc/R/site-library --timings humanStemCell_0.50.0.tar.gz StartedAt: 2025-11-04 12:27:20 -0500 (Tue, 04 Nov 2025) EndedAt: 2025-11-04 12:28:01 -0500 (Tue, 04 Nov 2025) EllapsedTime: 41.6 seconds RetCode: 0 Status: WARNINGS CheckDir: humanStemCell.Rcheck Warnings: 1