Package: humanHippocampus2024 Version: 1.2.0 Command: /home/biocbuild/bbs-3.22-bioc/R/bin/R CMD build --keep-empty-dirs --no-resave-data humanHippocampus2024 StartedAt: 2025-11-04 11:25:12 -0500 (Tue, 04 Nov 2025) EndedAt: 2025-11-04 11:30:55 -0500 (Tue, 04 Nov 2025) EllapsedTime: 343.4 seconds RetCode: 0 Status: OK PackageFile: humanHippocampus2024_1.2.0.tar.gz PackageFileSize: 1.041 MiB