Package: hgu2beta7 Version: 1.50.0 Command: /home/biocbuild/bbs-3.22-bioc/R/bin/R CMD INSTALL hgu2beta7 StartedAt: 2025-11-04 10:55:46 -0500 (Tue, 04 Nov 2025) EndedAt: 2025-11-04 10:55:48 -0500 (Tue, 04 Nov 2025) EllapsedTime: 1.8 seconds RetCode: 0 Status: OK