Package: hgu2beta7 Version: 1.50.0 Command: /home/biocbuild/bbs-3.22-bioc/R/bin/R CMD check --install=check:hgu2beta7.install-out.txt --library=/home/biocbuild/bbs-3.22-bioc/R/site-library --timings hgu2beta7_1.50.0.tar.gz StartedAt: 2025-11-04 12:24:15 -0500 (Tue, 04 Nov 2025) EndedAt: 2025-11-04 12:24:33 -0500 (Tue, 04 Nov 2025) EllapsedTime: 18.0 seconds RetCode: 0 Status: WARNINGS CheckDir: hgu2beta7.Rcheck Warnings: 4