Package: hgu2beta7 Version: 1.50.0 Command: /home/biocbuild/bbs-3.22-bioc/R/bin/R CMD build --keep-empty-dirs --no-resave-data hgu2beta7 StartedAt: 2025-11-04 11:24:01 -0500 (Tue, 04 Nov 2025) EndedAt: 2025-11-04 11:24:02 -0500 (Tue, 04 Nov 2025) EllapsedTime: 1.3 seconds RetCode: 0 Status: OK PackageFile: hgu2beta7_1.50.0.tar.gz PackageFileSize: 6.409 MiB