Package: hgu133plus2CellScore Version: 1.30.0 Command: /home/biocbuild/bbs-3.22-bioc/R/bin/R CMD INSTALL hgu133plus2CellScore StartedAt: 2025-11-18 10:57:03 -0500 (Tue, 18 Nov 2025) EndedAt: 2025-11-18 10:57:24 -0500 (Tue, 18 Nov 2025) EllapsedTime: 20.6 seconds RetCode: 0 Status: OK