Package: hgu133abarcodevecs Version: 1.48.0 Command: /home/biocbuild/bbs-3.22-bioc/R/bin/R CMD build --keep-empty-dirs --no-resave-data hgu133abarcodevecs StartedAt: 2025-11-04 11:23:57 -0500 (Tue, 04 Nov 2025) EndedAt: 2025-11-04 11:23:58 -0500 (Tue, 04 Nov 2025) EllapsedTime: 1.0 seconds RetCode: 0 Status: OK PackageFile: hgu133abarcodevecs_1.48.0.tar.gz PackageFileSize: 500.8 KiB