Package: hgu133abarcodevecs Version: 1.46.0 Command: /home/biocbuild/bbs-3.21-bioc/R/bin/R CMD INSTALL hgu133abarcodevecs StartedAt: 2025-10-07 10:55:19 -0400 (Tue, 07 Oct 2025) EndedAt: 2025-10-07 10:55:21 -0400 (Tue, 07 Oct 2025) EllapsedTime: 1.9 seconds RetCode: 0 Status: OK