Package: hgu133abarcodevecs Version: 1.46.0 Command: /home/biocbuild/bbs-3.21-bioc/R/bin/R CMD build --keep-empty-dirs --no-resave-data hgu133abarcodevecs StartedAt: 2025-10-07 11:22:04 -0400 (Tue, 07 Oct 2025) EndedAt: 2025-10-07 11:22:05 -0400 (Tue, 07 Oct 2025) EllapsedTime: 1.3 seconds RetCode: 0 Status: OK PackageFile: hgu133abarcodevecs_1.46.0.tar.gz PackageFileSize: 500.8 KiB