Package: healthyFlowData Version: 1.48.0 Command: /home/biocbuild/bbs-3.22-bioc/R/bin/R CMD check --install=check:healthyFlowData.install-out.txt --library=/home/biocbuild/bbs-3.22-bioc/R/site-library --timings healthyFlowData_1.48.0.tar.gz StartedAt: 2025-11-04 12:23:32 -0500 (Tue, 04 Nov 2025) EndedAt: 2025-11-04 12:24:04 -0500 (Tue, 04 Nov 2025) EllapsedTime: 32.6 seconds RetCode: 0 Status: OK CheckDir: healthyFlowData.Rcheck Warnings: 0