Package: healthyFlowData Version: 1.46.0 Command: /home/biocbuild/bbs-3.21-bioc/R/bin/R CMD check --install=check:healthyFlowData.install-out.txt --library=/home/biocbuild/bbs-3.21-bioc/R/site-library --timings healthyFlowData_1.46.0.tar.gz StartedAt: 2025-10-14 12:24:03 -0400 (Tue, 14 Oct 2025) EndedAt: 2025-10-14 12:24:38 -0400 (Tue, 14 Oct 2025) EllapsedTime: 34.6 seconds RetCode: 0 Status: OK CheckDir: healthyFlowData.Rcheck Warnings: 0