Package: healthyControlsPresenceChecker Version: 1.14.0 Command: /home/biocbuild/bbs-3.22-bioc/R/bin/R CMD check --install=check:healthyControlsPresenceChecker.install-out.txt --library=/home/biocbuild/bbs-3.22-bioc/R/site-library --timings healthyControlsPresenceChecker_1.14.0.tar.gz StartedAt: 2025-11-04 12:23:29 -0500 (Tue, 04 Nov 2025) EndedAt: 2025-11-04 12:26:13 -0500 (Tue, 04 Nov 2025) EllapsedTime: 164.2 seconds RetCode: 1 Status: ERROR CheckDir: healthyControlsPresenceChecker.Rcheck Warnings: NA