Package: healthyControlsPresenceChecker Version: 1.14.0 Command: /home/biocbuild/bbs-3.22-bioc/R/bin/R CMD build --keep-empty-dirs --no-resave-data healthyControlsPresenceChecker StartedAt: 2025-10-30 11:30:38 -0400 (Thu, 30 Oct 2025) EndedAt: 2025-10-30 11:31:20 -0400 (Thu, 30 Oct 2025) EllapsedTime: 42.5 seconds RetCode: 0 Status: OK PackageFile: healthyControlsPresenceChecker_1.14.0.tar.gz PackageFileSize: 219.9 KiB