Package: harbChIP Version: 1.48.0 Command: /home/biocbuild/bbs-3.22-bioc/R/bin/R CMD INSTALL harbChIP StartedAt: 2025-11-04 10:56:35 -0500 (Tue, 04 Nov 2025) EndedAt: 2025-11-04 10:56:51 -0500 (Tue, 04 Nov 2025) EllapsedTime: 15.5 seconds RetCode: 0 Status: OK