Package: harbChIP Version: 1.48.0 Command: /home/biocbuild/bbs-3.22-bioc/R/bin/R CMD check --install=check:harbChIP.install-out.txt --library=/home/biocbuild/bbs-3.22-bioc/R/site-library --timings harbChIP_1.48.0.tar.gz StartedAt: 2025-11-04 12:22:12 -0500 (Tue, 04 Nov 2025) EndedAt: 2025-11-04 12:23:31 -0500 (Tue, 04 Nov 2025) EllapsedTime: 79.3 seconds RetCode: 0 Status: OK CheckDir: harbChIP.Rcheck Warnings: 0