Package: hapmapsnp6 Version: 1.52.0 Command: /home/biocbuild/bbs-3.22-bioc/R/bin/R CMD check --install=check:hapmapsnp6.install-out.txt --library=/home/biocbuild/bbs-3.22-bioc/R/site-library --timings hapmapsnp6_1.52.0.tar.gz StartedAt: 2025-11-04 12:22:07 -0500 (Tue, 04 Nov 2025) EndedAt: 2025-11-04 12:24:22 -0500 (Tue, 04 Nov 2025) EllapsedTime: 135.1 seconds RetCode: 0 Status: OK CheckDir: hapmapsnp6.Rcheck Warnings: 0