Package: hapmapsnp6 Version: 1.52.0 Command: /home/biocbuild/bbs-3.22-bioc/R/bin/R CMD build --keep-empty-dirs --no-resave-data hapmapsnp6 StartedAt: 2025-11-04 11:21:31 -0500 (Tue, 04 Nov 2025) EndedAt: 2025-11-04 11:25:36 -0500 (Tue, 04 Nov 2025) EllapsedTime: 245.4 seconds RetCode: 0 Status: OK PackageFile: hapmapsnp6_1.52.0.tar.gz PackageFileSize: 263.2 MiB