Package: hapmapsnp5 Version: 1.52.0 Command: /home/biocbuild/bbs-3.22-bioc/R/bin/R CMD build --keep-empty-dirs --no-resave-data hapmapsnp5 StartedAt: 2025-11-04 11:21:30 -0500 (Tue, 04 Nov 2025) EndedAt: 2025-11-04 11:23:23 -0500 (Tue, 04 Nov 2025) EllapsedTime: 113.5 seconds RetCode: 0 Status: OK PackageFile: hapmapsnp5_1.52.0.tar.gz PackageFileSize: 59.41 MiB