Package: hapmap100kxba Version: 1.52.0 Command: /home/biocbuild/bbs-3.22-bioc/R/bin/R CMD INSTALL hapmap100kxba StartedAt: 2025-11-04 10:55:37 -0500 (Tue, 04 Nov 2025) EndedAt: 2025-11-04 10:55:38 -0500 (Tue, 04 Nov 2025) EllapsedTime: 1.4 seconds RetCode: 0 Status: OK