Package: hapmap100khind Version: 1.52.0 Command: /home/biocbuild/bbs-3.22-bioc/R/bin/R CMD INSTALL hapmap100khind StartedAt: 2025-11-04 10:55:41 -0500 (Tue, 04 Nov 2025) EndedAt: 2025-11-04 10:55:43 -0500 (Tue, 04 Nov 2025) EllapsedTime: 1.5 seconds RetCode: 0 Status: OK