Package: hapmap100khind Version: 1.52.0 Command: /home/biocbuild/bbs-3.22-bioc/R/bin/R CMD build --keep-empty-dirs --no-resave-data hapmap100khind StartedAt: 2025-11-04 11:21:16 -0500 (Tue, 04 Nov 2025) EndedAt: 2025-11-04 11:22:14 -0500 (Tue, 04 Nov 2025) EllapsedTime: 57.2 seconds RetCode: 0 Status: OK PackageFile: hapmap100khind_1.52.0.tar.gz PackageFileSize: 38.05 MiB