Package: grndata Version: 1.42.0 Command: /home/biocbuild/bbs-3.22-bioc/R/bin/R CMD INSTALL grndata StartedAt: 2025-11-04 10:55:40 -0500 (Tue, 04 Nov 2025) EndedAt: 2025-11-04 10:55:48 -0500 (Tue, 04 Nov 2025) EllapsedTime: 8.2 seconds RetCode: 0 Status: OK