Package: genomationData Version: 1.42.0 Command: /home/biocbuild/bbs-3.22-bioc/R/bin/R CMD build --keep-empty-dirs --no-resave-data genomationData StartedAt: 2025-11-04 11:20:32 -0500 (Tue, 04 Nov 2025) EndedAt: 2025-11-04 11:20:41 -0500 (Tue, 04 Nov 2025) EllapsedTime: 9.3 seconds RetCode: 0 Status: OK PackageFile: genomationData_1.42.0.tar.gz PackageFileSize: 66.49 MiB