Package: gDRtestData Version: 1.6.0 Command: /home/biocbuild/bbs-3.21-bioc/R/bin/R CMD check --install=check:gDRtestData.install-out.txt --library=/home/biocbuild/bbs-3.21-bioc/R/site-library --timings gDRtestData_1.6.0.tar.gz StartedAt: 2025-10-09 12:20:41 -0400 (Thu, 09 Oct 2025) EndedAt: 2025-10-09 12:21:20 -0400 (Thu, 09 Oct 2025) EllapsedTime: 39.6 seconds RetCode: 0 Status: OK CheckDir: gDRtestData.Rcheck Warnings: 0