Package: gDNAinRNAseqData Version: 1.10.0 Command: /home/biocbuild/bbs-3.22-bioc/R/bin/R CMD INSTALL gDNAinRNAseqData StartedAt: 2025-11-04 11:03:42 -0500 (Tue, 04 Nov 2025) EndedAt: 2025-11-04 11:04:00 -0500 (Tue, 04 Nov 2025) EllapsedTime: 17.7 seconds RetCode: 0 Status: OK