Package: gDNAinRNAseqData Version: 1.10.0 Command: /home/biocbuild/bbs-3.22-bioc/R/bin/R CMD check --install=check:gDNAinRNAseqData.install-out.txt --library=/home/biocbuild/bbs-3.22-bioc/R/site-library --timings gDNAinRNAseqData_1.10.0.tar.gz StartedAt: 2025-11-04 12:20:06 -0500 (Tue, 04 Nov 2025) EndedAt: 2025-11-04 12:23:29 -0500 (Tue, 04 Nov 2025) EllapsedTime: 202.9 seconds RetCode: 0 Status: OK CheckDir: gDNAinRNAseqData.Rcheck Warnings: 0