Package: gDNAinRNAseqData Version: 1.10.0 Command: /home/biocbuild/bbs-3.22-bioc/R/bin/R CMD build --keep-empty-dirs --no-resave-data gDNAinRNAseqData StartedAt: 2025-10-30 11:26:19 -0400 (Thu, 30 Oct 2025) EndedAt: 2025-10-30 11:27:11 -0400 (Thu, 30 Oct 2025) EllapsedTime: 51.5 seconds RetCode: 0 Status: OK PackageFile: gDNAinRNAseqData_1.10.0.tar.gz PackageFileSize: 296.1 KiB