Package: fourDNData Version: 1.10.0 Command: /home/biocbuild/bbs-3.22-bioc/R/bin/R CMD INSTALL fourDNData StartedAt: 2025-11-04 10:58:59 -0500 (Tue, 04 Nov 2025) EndedAt: 2025-11-04 10:59:10 -0500 (Tue, 04 Nov 2025) EllapsedTime: 11.4 seconds RetCode: 0 Status: OK