Package: fourDNData Version: 1.10.0 Command: /home/biocbuild/bbs-3.22-bioc/R/bin/R CMD build --keep-empty-dirs --no-resave-data fourDNData StartedAt: 2025-11-04 11:19:47 -0500 (Tue, 04 Nov 2025) EndedAt: 2025-11-04 11:20:21 -0500 (Tue, 04 Nov 2025) EllapsedTime: 33.7 seconds RetCode: 0 Status: OK PackageFile: fourDNData_1.10.0.tar.gz PackageFileSize: 493.7 KiB