Package: fission Version: 1.30.0 Command: /home/biocbuild/bbs-3.22-bioc/R/bin/R CMD INSTALL fission StartedAt: 2025-11-04 10:58:50 -0500 (Tue, 04 Nov 2025) EndedAt: 2025-11-04 10:59:06 -0500 (Tue, 04 Nov 2025) EllapsedTime: 15.8 seconds RetCode: 0 Status: OK