Package: fission Version: 1.30.0 Command: /home/biocbuild/bbs-3.22-bioc/R/bin/R CMD build --keep-empty-dirs --no-resave-data fission StartedAt: 2025-11-04 11:18:51 -0500 (Tue, 04 Nov 2025) EndedAt: 2025-11-04 11:19:08 -0500 (Tue, 04 Nov 2025) EllapsedTime: 17.3 seconds RetCode: 0 Status: OK PackageFile: fission_1.30.0.tar.gz PackageFileSize: 427 KiB