Package: ffpeExampleData Version: 1.48.0 Command: /home/biocbuild/bbs-3.22-bioc/R/bin/R CMD INSTALL ffpeExampleData StartedAt: 2025-10-30 11:06:33 -0400 (Thu, 30 Oct 2025) EndedAt: 2025-10-30 11:07:07 -0400 (Thu, 30 Oct 2025) EllapsedTime: 34.8 seconds RetCode: 0 Status: OK