Package: fabiaData Version: 1.48.0 Command: /home/biocbuild/bbs-3.22-bioc/R/bin/R CMD build --keep-empty-dirs --no-resave-data fabiaData StartedAt: 2025-11-04 11:18:42 -0500 (Tue, 04 Nov 2025) EndedAt: 2025-11-04 11:18:49 -0500 (Tue, 04 Nov 2025) EllapsedTime: 7.2 seconds RetCode: 0 Status: OK PackageFile: fabiaData_1.48.0.tar.gz PackageFileSize: 4.514 MiB