Package: faahKO Version: 1.50.0 Command: /home/biocbuild/bbs-3.22-bioc/R/bin/R CMD INSTALL faahKO StartedAt: 2025-10-30 11:06:24 -0400 (Thu, 30 Oct 2025) EndedAt: 2025-10-30 11:07:32 -0400 (Thu, 30 Oct 2025) EllapsedTime: 68.0 seconds RetCode: 0 Status: OK