Package: faahKO Version: 1.50.0 Command: /home/biocbuild/bbs-3.22-bioc/R/bin/R CMD check --install=check:faahKO.install-out.txt --library=/home/biocbuild/bbs-3.22-bioc/R/site-library --timings faahKO_1.50.0.tar.gz StartedAt: 2025-11-04 12:16:19 -0500 (Tue, 04 Nov 2025) EndedAt: 2025-11-04 12:21:32 -0500 (Tue, 04 Nov 2025) EllapsedTime: 313.7 seconds RetCode: 0 Status: OK CheckDir: faahKO.Rcheck Warnings: 0