Package: ewceData Version: 1.18.0 Command: /home/biocbuild/bbs-3.22-bioc/R/bin/R CMD build --keep-empty-dirs --no-resave-data ewceData StartedAt: 2025-10-30 11:23:19 -0400 (Thu, 30 Oct 2025) EndedAt: 2025-10-30 11:24:27 -0400 (Thu, 30 Oct 2025) EllapsedTime: 68.0 seconds RetCode: 0 Status: OK PackageFile: ewceData_1.18.0.tar.gz PackageFileSize: 45.36 KiB