Package: etec16s Version: 1.36.0 Command: /home/biocbuild/bbs-3.21-bioc/R/bin/R CMD INSTALL etec16s StartedAt: 2025-10-07 10:56:35 -0400 (Tue, 07 Oct 2025) EndedAt: 2025-10-07 10:56:40 -0400 (Tue, 07 Oct 2025) EllapsedTime: 5.1 seconds RetCode: 0 Status: OK