Package: etec16s Version: 1.36.0 Command: /home/biocbuild/bbs-3.21-bioc/R/bin/R CMD build --keep-empty-dirs --no-resave-data etec16s StartedAt: 2025-10-07 11:15:22 -0400 (Tue, 07 Oct 2025) EndedAt: 2025-10-07 11:15:32 -0400 (Tue, 07 Oct 2025) EllapsedTime: 10.0 seconds RetCode: 0 Status: OK PackageFile: etec16s_1.36.0.tar.gz PackageFileSize: 309.5 KiB