Package: estrogen Version: 1.56.0 Command: /home/biocbuild/bbs-3.22-bioc/R/bin/R CMD INSTALL estrogen StartedAt: 2025-11-04 10:55:24 -0500 (Tue, 04 Nov 2025) EndedAt: 2025-11-04 10:55:26 -0500 (Tue, 04 Nov 2025) EllapsedTime: 2.2 seconds RetCode: 0 Status: OK