Package: estrogen Version: 1.56.0 Command: /home/biocbuild/bbs-3.22-bioc/R/bin/R CMD check --install=check:estrogen.install-out.txt --library=/home/biocbuild/bbs-3.22-bioc/R/site-library --timings estrogen_1.56.0.tar.gz StartedAt: 2025-11-04 12:16:09 -0500 (Tue, 04 Nov 2025) EndedAt: 2025-11-04 12:17:04 -0500 (Tue, 04 Nov 2025) EllapsedTime: 54.9 seconds RetCode: 0 Status: OK CheckDir: estrogen.Rcheck Warnings: 0