Package: estrogen Version: 1.56.0 Command: /home/biocbuild/bbs-3.22-bioc/R/bin/R CMD build --keep-empty-dirs --no-resave-data estrogen StartedAt: 2025-11-04 11:18:21 -0500 (Tue, 04 Nov 2025) EndedAt: 2025-11-04 11:19:36 -0500 (Tue, 04 Nov 2025) EllapsedTime: 74.7 seconds RetCode: 0 Status: OK PackageFile: estrogen_1.56.0.tar.gz PackageFileSize: 26.3 MiB