Package: estrogen Version: 1.54.0 Command: /home/biocbuild/bbs-3.21-bioc/R/bin/R CMD INSTALL estrogen StartedAt: 2025-09-25 10:55:22 -0400 (Thu, 25 Sep 2025) EndedAt: 2025-09-25 10:55:24 -0400 (Thu, 25 Sep 2025) EllapsedTime: 2.5 seconds RetCode: 0 Status: OK