Package: eoPredData Version: 1.4.0 Command: /home/biocbuild/bbs-3.22-bioc/R/bin/R CMD check --install=check:eoPredData.install-out.txt --library=/home/biocbuild/bbs-3.22-bioc/R/site-library --timings eoPredData_1.4.0.tar.gz StartedAt: 2025-11-04 12:16:00 -0500 (Tue, 04 Nov 2025) EndedAt: 2025-11-04 12:16:50 -0500 (Tue, 04 Nov 2025) EllapsedTime: 49.9 seconds RetCode: 0 Status: OK CheckDir: eoPredData.Rcheck Warnings: 0