Package: eoPredData Version: 1.2.0 Command: /home/biocbuild/bbs-3.21-bioc/R/bin/R CMD check --install=check:eoPredData.install-out.txt --library=/home/biocbuild/bbs-3.21-bioc/R/site-library --timings eoPredData_1.2.0.tar.gz StartedAt: 2025-10-07 12:15:00 -0400 (Tue, 07 Oct 2025) EndedAt: 2025-10-07 12:15:49 -0400 (Tue, 07 Oct 2025) EllapsedTime: 48.6 seconds RetCode: 0 Status: OK CheckDir: eoPredData.Rcheck Warnings: 0