Package: emtdata Version: 1.18.0 Command: /home/biocbuild/bbs-3.22-bioc/R/bin/R CMD INSTALL emtdata StartedAt: 2025-11-04 10:58:53 -0500 (Tue, 04 Nov 2025) EndedAt: 2025-11-04 10:59:03 -0500 (Tue, 04 Nov 2025) EllapsedTime: 10.1 seconds RetCode: 0 Status: OK