Package: emtdata Version: 1.18.0 Command: /home/biocbuild/bbs-3.22-bioc/R/bin/R CMD build --keep-empty-dirs --no-resave-data emtdata StartedAt: 2025-11-04 11:17:53 -0500 (Tue, 04 Nov 2025) EndedAt: 2025-11-04 11:18:41 -0500 (Tue, 04 Nov 2025) EllapsedTime: 48.2 seconds RetCode: 1 Status: ERROR PackageFile: None PackageFileSize: NA