Package: easierData Version: 1.16.0 Command: /home/biocbuild/bbs-3.22-bioc/R/bin/R CMD INSTALL easierData StartedAt: 2025-11-06 11:03:50 -0500 (Thu, 06 Nov 2025) EndedAt: 2025-11-06 11:04:15 -0500 (Thu, 06 Nov 2025) EllapsedTime: 24.8 seconds RetCode: 0 Status: OK