Package: dyebiasexamples Version: 1.50.0 Command: /home/biocbuild/bbs-3.22-bioc/R/bin/R CMD check --install=check:dyebiasexamples.install-out.txt --library=/home/biocbuild/bbs-3.22-bioc/R/site-library --timings dyebiasexamples_1.50.0.tar.gz StartedAt: 2025-11-04 12:14:36 -0500 (Tue, 04 Nov 2025) EndedAt: 2025-11-04 12:16:22 -0500 (Tue, 04 Nov 2025) EllapsedTime: 105.7 seconds RetCode: 0 Status: WARNINGS CheckDir: dyebiasexamples.Rcheck Warnings: 5