Package: dressCheck Version: 0.48.0 Command: /home/biocbuild/bbs-3.22-bioc/R/bin/R CMD build --keep-empty-dirs --no-resave-data dressCheck StartedAt: 2025-11-04 11:17:23 -0500 (Tue, 04 Nov 2025) EndedAt: 2025-11-04 11:17:48 -0500 (Tue, 04 Nov 2025) EllapsedTime: 24.5 seconds RetCode: 0 Status: OK PackageFile: dressCheck_0.48.0.tar.gz PackageFileSize: 65.75 MiB