Package: diggitdata Version: 1.42.0 Command: /home/biocbuild/bbs-3.22-bioc/R/bin/R CMD INSTALL diggitdata StartedAt: 2025-11-18 10:58:33 -0500 (Tue, 18 Nov 2025) EndedAt: 2025-11-18 10:58:41 -0500 (Tue, 18 Nov 2025) EllapsedTime: 7.6 seconds RetCode: 0 Status: OK